BEGIN:VCALENDAR
PRODID:-//eluceo/ical//2.0/EN
VERSION:2.0
CALSCALE:GREGORIAN
BEGIN:VEVENT
UID:9b7f690e6196d25768a60bab7affb859
DTSTAMP:20260421T095759Z
SUMMARY:Gesellschaftsversammlung
DESCRIPTION:.
URL:https://intern.freiland-flensburg.de/nachrichten/gesellschaftsversammlu
 ng-3.html
DTSTART:20230720T190000
DTEND:20230720T203000
LOCATION:Freiland 10\, Flensburg
END:VEVENT
BEGIN:VTIMEZONE
TZID:Europe/Berlin
BEGIN:DAYLIGHT
DTSTART:20230720T190000
TZNAME:CEST
TZOFFSETTO:+0200
TZOFFSETFROM:+0200
END:DAYLIGHT
END:VTIMEZONE
END:VCALENDAR
