BEGIN:VCALENDAR
PRODID:-//eluceo/ical//2.0/EN
VERSION:2.0
CALSCALE:GREGORIAN
BEGIN:VEVENT
UID:38ccff079a1afc24a66fdb648f1bc72b
DTSTAMP:20260421T095641Z
SUMMARY:Einzug der Bewohner
DESCRIPTION:Monat des Einzugs ins Atriumhaus
URL:https://intern.freiland-flensburg.de/nachrichten/einzug.html
DTSTART:20230701T000000
DTEND:20230731T235959
LOCATION:
END:VEVENT
BEGIN:VTIMEZONE
TZID:Europe/Berlin
BEGIN:DAYLIGHT
DTSTART:20230701T000000
TZNAME:CEST
TZOFFSETTO:+0200
TZOFFSETFROM:+0200
END:DAYLIGHT
END:VTIMEZONE
END:VCALENDAR
